BEGIN:VCALENDAR
VERSION:2.0
PRODID:-//Spring - ECPv6.15.20//NONSGML v1.0//EN
CALSCALE:GREGORIAN
METHOD:PUBLISH
X-ORIGINAL-URL:https://springmag.ca
X-WR-CALDESC:Events for Spring
REFRESH-INTERVAL;VALUE=DURATION:PT1H
X-Robots-Tag:noindex
X-PUBLISHED-TTL:PT1H
BEGIN:VTIMEZONE
TZID:America/Toronto
BEGIN:DAYLIGHT
TZOFFSETFROM:-0500
TZOFFSETTO:-0400
TZNAME:EDT
DTSTART:20210314T070000
END:DAYLIGHT
BEGIN:STANDARD
TZOFFSETFROM:-0400
TZOFFSETTO:-0500
TZNAME:EST
DTSTART:20211107T060000
END:STANDARD
BEGIN:DAYLIGHT
TZOFFSETFROM:-0500
TZOFFSETTO:-0400
TZNAME:EDT
DTSTART:20220313T070000
END:DAYLIGHT
BEGIN:STANDARD
TZOFFSETFROM:-0400
TZOFFSETTO:-0500
TZNAME:EST
DTSTART:20221106T060000
END:STANDARD
BEGIN:DAYLIGHT
TZOFFSETFROM:-0500
TZOFFSETTO:-0400
TZNAME:EDT
DTSTART:20230312T070000
END:DAYLIGHT
BEGIN:STANDARD
TZOFFSETFROM:-0400
TZOFFSETTO:-0500
TZNAME:EST
DTSTART:20231105T060000
END:STANDARD
END:VTIMEZONE
BEGIN:VEVENT
DTSTART;TZID=America/Toronto:20220907T190000
DTEND;TZID=America/Toronto:20220907T203000
DTSTAMP:20260421T061218
CREATED:20220824T150016Z
LAST-MODIFIED:20220906T171907Z
UID:11548-1662577200-1662582600@springmag.ca
SUMMARY:Spring Reading Group: "Climate Change as Class War: Building Socialism on a Warming Planet"
DESCRIPTION:Join Spring on Wednesday\, September 7\, 7pm EDT for the first session of our reading group on Matthew T. Huber’s “Climate Change as Class War: Building Socialism on a Warming Planet.” \nHuber’s book argues that despite capitalism’s vital role in causing the urgent climate crisis we now face\, the climate movement finds itself more appealing to the upper classes than the working class. To address the climate crisis\, Huber proposes and argues for a climate movement led by workers that builds our collective power to transform systems and create international solutions that work for the many and not just for the few. No matter where our interests lie – climate movements\, worker movements\, decolonization and Indigenous sovereignty – Huber’s book offers much for us to discuss as a group as we learn how to build our world together. \nIn this first meeting\, we will be discussing Part 1 of the book. All are welcome. The book is available direct from Verso (https://www.versobooks.com/books/3973-climate-change-as-class-war)\, or send us an email. \nEmail us at info@springmag.ca for the Zoom link.
URL:https://springmag.ca/event/spring-reading-group-climate-change-as-class-war-building-socialism-on-a-burning-planet
CATEGORIES:Reading Group
ATTACH;FMTTYPE=image/jpeg:https://springmag.ca/wp-content/uploads/2022/08/spring-reading-group-climate-change-as-class-war-header.jpg
END:VEVENT
BEGIN:VEVENT
DTSTART;TZID=America/Toronto:20220921T190000
DTEND;TZID=America/Toronto:20220921T203000
DTSTAMP:20260421T061218
CREATED:20220906T170609Z
LAST-MODIFIED:20220906T170621Z
UID:11667-1663786800-1663792200@springmag.ca
SUMMARY:Spring Reading Group: "Climate Change as Class War: Building Socialism on a Warming Planet"
DESCRIPTION:Join Spring on Wednesday\, September 21\, 7pm EDT for the second session of our reading group on Matthew T. Huber’s “Climate Change as Class War: Building Socialism on a Warming Planet.” \nHuber’s book argues that despite capitalism’s vital role in causing the urgent climate crisis we now face\, the climate movement finds itself more appealing to the upper classes than the working class. To address the climate crisis\, Huber proposes and argues for a climate movement led by workers that builds our collective power to transform systems and create international solutions that work for the many and not just for the few. No matter where our interests lie – climate movements\, worker movements\, decolonization and Indigenous sovereignty – Huber’s book offers much for us to discuss as a group as we learn how to build our world together. \nIn this second meeting\, we will be discussing Part 2 of the book. All are welcome. The book is available direct from Verso (https://www.versobooks.com/books/3973-climate-change-as-class-war)\, or send us an email. \nEmail us at info@springmag.ca for the Zoom link.
URL:https://springmag.ca/event/spring-reading-group-climate-change-as-class-war-building-socialism-on-a-warming-planet
CATEGORIES:Reading Group
ATTACH;FMTTYPE=image/jpeg:https://springmag.ca/wp-content/uploads/2022/09/spring-reading-group-climate-change-as-class-war-header.jpg
END:VEVENT
END:VCALENDAR