BEGIN:VCALENDAR
VERSION:2.0
PRODID:-//Spring - ECPv6.15.20//NONSGML v1.0//EN
CALSCALE:GREGORIAN
METHOD:PUBLISH
X-WR-CALNAME:Spring
X-ORIGINAL-URL:https://springmag.ca
X-WR-CALDESC:Events for Spring
REFRESH-INTERVAL;VALUE=DURATION:PT1H
X-Robots-Tag:noindex
X-PUBLISHED-TTL:PT1H
BEGIN:VTIMEZONE
TZID:America/Toronto
BEGIN:DAYLIGHT
TZOFFSETFROM:-0500
TZOFFSETTO:-0400
TZNAME:EDT
DTSTART:20210314T070000
END:DAYLIGHT
BEGIN:STANDARD
TZOFFSETFROM:-0400
TZOFFSETTO:-0500
TZNAME:EST
DTSTART:20211107T060000
END:STANDARD
BEGIN:DAYLIGHT
TZOFFSETFROM:-0500
TZOFFSETTO:-0400
TZNAME:EDT
DTSTART:20220313T070000
END:DAYLIGHT
BEGIN:STANDARD
TZOFFSETFROM:-0400
TZOFFSETTO:-0500
TZNAME:EST
DTSTART:20221106T060000
END:STANDARD
BEGIN:DAYLIGHT
TZOFFSETFROM:-0500
TZOFFSETTO:-0400
TZNAME:EDT
DTSTART:20230312T070000
END:DAYLIGHT
BEGIN:STANDARD
TZOFFSETFROM:-0400
TZOFFSETTO:-0500
TZNAME:EST
DTSTART:20231105T060000
END:STANDARD
END:VTIMEZONE
BEGIN:VEVENT
DTSTART;TZID=America/Toronto:20220618T190000
DTEND;TZID=America/Toronto:20220618T210000
DTSTAMP:20260425T062534
CREATED:20220603T020144Z
LAST-MODIFIED:20220603T020144Z
UID:11122-1655578800-1655586000@springmag.ca
SUMMARY:Spring reading group: "Fearing the Black Body: The Racial Origins of Fatphobia"
DESCRIPTION:Spring is excited to announce the third session of our reading group for Sabrina String’s book\, “Fearing the Black Body: The Racial Origins of Fatphobia.” \nString argues that the contemporary ideal of slenderness is\, at its very core\, racialized and racist. Indeed\, it was not until the early twentieth century\, when racialized attitudes against fatness were already entrenched in the culture\, that the medical establishment began its crusade against obesity. An important and original work\, Fearing the Black Body argues convincingly that fatphobia isn’t about health at all\, but rather a means of using the body to validate race\, class\, and gender prejudice. \nAs a socialists we hope to address the presence of fatphobia in leftist spaces and begin a conversation regarding fatphobia as a race\, class\, and gender issue. \nAt this session\, we will be reviewing and discussing Part 3. \nEmail Spring at info@springmag.ca for the Zoom link and/or if you have any other questions.
URL:https://springmag.ca/event/spring-reading-group-fearing-the-black-body-the-racial-origins-of-fatphobia-3
CATEGORIES:Reading Group
ATTACH;FMTTYPE=image/png:https://springmag.ca/wp-content/uploads/2022/06/2022-06-18-reading-group-fb-event-image.png
END:VEVENT
END:VCALENDAR